BEGIN:VCALENDAR
VERSION:2.0
PRODID:-//Psieo Organizasyon - ECPv5.8.1//NONSGML v1.0//EN
CALSCALE:GREGORIAN
METHOD:PUBLISH
X-WR-CALNAME:Psieo Organizasyon
X-ORIGINAL-URL:http://psieo.net
X-WR-CALDESC:Psieo Organizasyon için etkinlikler
BEGIN:VTIMEZONE
TZID:Europe/Istanbul
BEGIN:STANDARD
TZOFFSETFROM:+0300
TZOFFSETTO:+0300
TZNAME:+03
DTSTART:20190101T000000
END:STANDARD
END:VTIMEZONE
BEGIN:VEVENT
DTSTART;TZID=Europe/Istanbul:20191130T093000
DTEND;TZID=Europe/Istanbul:20191201T170000
DTSTAMP:20260420T174533
CREATED:20190902T202543Z
LAST-MODIFIED:20191128T203455Z
UID:1080-1575106200-1575219600@psieo.net
SUMMARY:PSİKOLOJİK SAĞLAMLIK:Sıkıntıları Öğrenmeye ve Büyümeye  Dönüştürmek
DESCRIPTION:Danışanlar stres altında olduklarında ya da büyük kayıplar ve kaygılarla travmatize olduklarında\, terapistler süreçte sadece başa çıkması ve işlevselliğini geri kazanmasına yardımcı olmaz. \nSüreci\, başa çıkmanın yeni becerilerini yeniden örüntüleme\, psikolojik sağlamlıklarına ve iyi oluşlarına katkı sağlama fırsatı olarak görebiliriz. Modern sinir biliminin keşiflerini ve travma sonrası gelişimin belirli araçlarını kullanarak herhangi bir hayal kırıklığını ya da felaketi aşmalarında destek olabiliriz. \nBu çalışmada\, Batı psikolojisini\, Budist bilgelik geleneğini ve modern sinir bilim uygulamalarını bir araya getirmenin adım adım süreci paylaşılacaktır. Duyguları yönetmek\, bilinçli öz farkındalıkla empatiyi derinleştirme\, öz şefkat\, denge temel seviyesi\, sağlıklı ve besleyici ilişkiler kurmak\, stres ile travmanın etkilerini tersine çevirmek ve bilinçli yansıtmayı kullanarak bilgece seçimler yapmak ele alınacaktır. \n————- \nLinda Graham kimdir? \nLinda\, San Francisco Körfezi Bölgesi’nde çalışmalarını sürdüren deneyimli bir psikoterapist ve öz şefkatli farkındalık eğitmenidir. \n“Bouncing Back: Rewiring Your Brain for Maximum Resilience and Well-Being” kitabının ödüllü yazarıdır.\n“Resilience: Powerful Practices for Bouncing Back from Disappointment\, Difficulty\, and Even Disaster” isimli kitabı da yeni yayımlanmıştır. \nUlusal ve uluslararası çalışmalarında\, modern sinir bilimi\, öz şefkatli farkındalığı ve ilişkisel psikolojiyi entegre eder. \n—– \nKimler Katılabilir? \nÇift ve Aile Terapistleri\, Psikiyatristler\, Psikologlar\, Psikolojik Danışmanlar\, Sosyal Hizmet Uzmanları\, Aile Danışmanları\, Rehber Öğretmenler ile bu alanların yüksek lisans ya da lisans programlarında okuyan öğrenciler katılabilir. \nGünlük Program Akışı:\n09:30 – 11:00 Atölye Çalışması (1\,5 saat)\n11:00 – 11:15 Kahve arası (15 dakika)\n11:15 – 12:45 Atölye Çalışması (1\,5 saat)\n12:45 – 13:50 Yemek arası\n13:50 – 15:20 Atölye Çalışması (1\,5 saat)\n15:20– 15:35 Kahve arası (15 dakika)\n15:35 – 17:05 Atölye Çalışması (1\,5 saat) \nAtölye çalışmasının tüm saatlerine (12 saat) eksiksiz katılanlara katılım belgesi verilecektir. \nKontenjan sınırlıdır. \nwww.psieo.net adresinden kayıt olabilirsiniz. \n—- \n2 günlük seminer katılım ücreti: \n  \n\n\n\n\n\n  \n11 Ekim-29 Kasım 2019\n\n\nÖğrenci \nÇATED Üyesi\n\n960TL + KDV\n\n\nMezun & Uzman\n\n1200TL + KDV\n\n\n\nKayıt www.psieo.net adresinden online yapılmaktadır. \nKredi kartınız ile ödemenizi gerçekleştirebilirsiniz. \nBanka aracılığı ile ödeme yapmayı tercih edenler bize mail gönderebilirler. (kayit@psieo.net) \nÜcrete dahil olanlar:\n1 günlük seminer katılımı\nSimültane çeviri hizmeti\nÇay- kahve ikramları ve kahve molası büfesi\nSeminere ait dokümanlar ve çalışma kağıtları\nYaka kartı\, katılım belgesi \nÖğrenci indiriminden faydalanmak için öğrenci olduğunuzu gösterir belgeyi kayit@psieo.net adresine iletiniz. İndirim kodunuz iletilecektir.\n10 Ekim 2019 tarihinden önce gerçekleştirilen iptallerde ücretin %50si iade edilir. 10 Ekim 2019 tarihinden sonra gerçekleştirilen iptallerde ücret iadesi yapılmaz. \nKontenjan kesin kayıt sırasına göre dolar. \nKontenjan sınırlıdır. \nwww.psieo.com adresinden kayıt olabilirsiniz. \nKAYIT OL
URL:http://psieo.net/etkinlik/psikolojik-saglamliksikintilari-ogrenmeye-ve-buyumeye-donusturmek/
LOCATION:Dedeman Gayrettepe İstanbul\, Park Dedeman Levent\, İstanbul\, 34349\, Türkiye
CATEGORIES:Atölye Çalışması,Eğitimler,Etkinlikler
ATTACH;FMTTYPE=image/jpeg:http://psieo.net/wp-content/uploads/2019/09/linda-graham.jpg
END:VEVENT
END:VCALENDAR