BEGIN:VCALENDAR
VERSION:2.0
PRODID:-//Psieo Organizasyon - ECPv5.8.1//NONSGML v1.0//EN
CALSCALE:GREGORIAN
METHOD:PUBLISH
X-WR-CALNAME:Psieo Organizasyon
X-ORIGINAL-URL:http://psieo.net
X-WR-CALDESC:Psieo Organizasyon için etkinlikler
BEGIN:VTIMEZONE
TZID:Europe/Istanbul
BEGIN:STANDARD
TZOFFSETFROM:+0300
TZOFFSETTO:+0300
TZNAME:+03
DTSTART:20190101T000000
END:STANDARD
END:VTIMEZONE
BEGIN:VEVENT
DTSTART;TZID=Europe/Istanbul:20190210T120000
DTEND;TZID=Europe/Istanbul:20190210T153000
DTSTAMP:20260420T233622
CREATED:20170309T053555Z
LAST-MODIFIED:20190225T193154Z
UID:626-1549800000-1549812600@psieo.net
SUMMARY:Danışmanlık Hizmetinde Psikoloji ve Hukuk İlişkisi
DESCRIPTION:  \nDanışmanlık hizmeti sağlayan bireylerin zaman zaman akıllarına takılan çeşitli soruları Avukat Nurdan Çavdaroğlu hukuki açıdan ele alacak. \n\n\n\nMeslek sırlarının saklanmasında dikkat edilmesi gerekenler\nDanışanı bilgilendirme noktasında nelere dikkat etmelisiniz?\nUzman görüşü istenildiğinde neler yapılmalı?\nGenel ve özel ihbar yükümlülükleri nelerdir?\n\n\n\nÇalışmanın İçeriği: \nA. İHBAR YÜKÜMLÜLÜĞÜ \n\nGENEL İHBAR YÜKÜMLÜLÜĞÜ TCK 278\n\n2. ÖZEL İHBAR YÜKÜMLÜLÜĞÜ TCK 280 \n2.1. İhbar Şartları (görev sırasında öğrenme\, göreve ilişkin olma) \n2.2. İhbara Konu TCK’da tanımlı suç tipleri \n2.3. İhbarın Yapılacağı Merci ve Şekli \n2.4. İhmal/ Gecikme Sonuçları \n2.5. Yanılma \nB. SIR SAKLAMA YÜKÜMLÜLÜĞÜ & GİZLİLİK \nMESLEK SIRRI \nSağlık Mesleği Mensupları Kavramı (Sağlık Hizmeti Veren Diğer Kişiler) \nMeslek Sırrının İfşası Suçu \nTanıklıktan Çekinme \nÖZEL HAYATIN GİZLİLİĞİ \nAnayasa \nTürk Ceza Kanunu \nKişisel Verilerin Korunması Kanunu \nÖzel Nitelikli Kişisel Veriler – Sağlık Verileri İşleme Şartları \nAçık Rıza Alma Yükümlülüğü \nBilgilendirme Yükümlülüğü \nYüksek Yargı Kararları \n3. AİLE MAHKEMELERİ & UZMAN RAPORLARI \nTürk Medeni Kanunu \n2003 tarihli Aile Mahkemeleri Kanunu \nUzmanların Görev ve Sorumlulukları \nYüksek Yargı Kararları \n2.1. VELAYET \n– Evlilik Birliği İçinde Velayet \n– Boşanma Sürecinde Velayete İlişkin Uzman Raporları ve Yerleşmiş Yüksek Yargı Kararları \n– Boşanma Sonrası Velayet \n– Diğer Eşin Rızası \n\nÇocuk Hakları Sözleşmesi ve Çocuğun Hakları\nAnayasa ve Medeni Kanun\nKıyasen Hasta Hakları Yönetmeliği\n5395 Çocukları Koruma Kanunu\nYüksek Yargı Kararları\n\nKimler Katılabilir: Psikoloji\, Psikolojik Danışmanlık\, Sosyal Hizmet bölümü mezunları ve bu bölümlerin 3. ve 4. sınıf öğrencileri\, Aile danışmanları
URL:http://psieo.net/etkinlik/danismanlik-hizmetinde-psikoloji-ve-hukuk-iliskisi/
LOCATION:PSI Eğitim Organizasyon\, Yazanlar Sk. No:17 Suadiye\, İstanbul\, 34740\, Türkiye
CATEGORIES:Eğitimler
ATTACH;FMTTYPE=image/jpeg:http://psieo.net/wp-content/uploads/2019/02/NurdanCavdaroglu1-1150x521.jpg
END:VEVENT
END:VCALENDAR