BEGIN:VCALENDAR
VERSION:2.0
PRODID:-//Psieo Organizasyon - ECPv5.8.1//NONSGML v1.0//EN
CALSCALE:GREGORIAN
METHOD:PUBLISH
X-WR-CALNAME:Psieo Organizasyon
X-ORIGINAL-URL:http://psieo.net
X-WR-CALDESC:Psieo Organizasyon için etkinlikler
BEGIN:VTIMEZONE
TZID:Europe/Istanbul
BEGIN:STANDARD
TZOFFSETFROM:+0300
TZOFFSETTO:+0300
TZNAME:+03
DTSTART:20190101T000000
END:STANDARD
END:VTIMEZONE
BEGIN:VEVENT
DTSTART;TZID=Europe/Istanbul:20190222T123000
DTEND;TZID=Europe/Istanbul:20190222T200000
DTSTAMP:20260420T193228
CREATED:20170309T053842Z
LAST-MODIFIED:20190225T195222Z
UID:630-1550838600-1550865600@psieo.net
SUMMARY:Bilişsel Davranışçı Yaklaşımda Ön Görüşme
DESCRIPTION:Bu çalışmada Bilişsel-Davranışçı Yaklaşım çerçevesinde ön görüşme süreci ele alınacaktır. Psikoterapi sürecinin ilk adımı olan öykü alımında temel ilkeler ve görüşme teknikleri üzerinde durulacaktır. \nÇalışmada ele alınacak konu başlıkları: \n\nİlk görüşmede öykü alımı\nDeğerlendirme süreçleri\nGörüşme teknikleri\nBilişsel-Davranışçı vaka formülasyonu\n\n\nGünlük Program Akışı: \n\n1. Oturum: 09:30 – 12:30\nÖğle Arası: 12:30 – 13:30\n2. Oturum: 13:30 – 17:00\n\nKimler Katılabilir: Psikoloji ve Psikolojik Danışmanlık bölümü mezunları ve bu bölümlerin 4. sınıf öğrencileri \nKatılım Ücreti: Mezun: 350 TL + KDV  Öğrenci: 250 TL + KDV \nAtölye çalışmasının tüm saatlerine (6 saat) eksiksiz katılanlara katılım belgesi verilecektir.
URL:http://psieo.net/etkinlik/bilissel-davranisci-yaklasimda-on-gorusme/
LOCATION:PSI Eğitim Organizasyon\, Yazanlar Sk. No:17 Suadiye\, İstanbul\, 34740\, Türkiye
CATEGORIES:Etkinlikler
ATTACH;FMTTYPE=image/jpeg:http://psieo.net/wp-content/uploads/2019/02/PetekBatum-1150x519.jpg
END:VEVENT
END:VCALENDAR